BEGIN:VCALENDAR
VERSION:2.0
PRODID:-//The Puffin Cultural Forum - ECPv6.15.20//NONSGML v1.0//EN
CALSCALE:GREGORIAN
METHOD:PUBLISH
X-ORIGINAL-URL:https://www.puffinculturalforum.org
X-WR-CALDESC:Events for The Puffin Cultural Forum
REFRESH-INTERVAL;VALUE=DURATION:PT1H
X-Robots-Tag:noindex
X-PUBLISHED-TTL:PT1H
BEGIN:VTIMEZONE
TZID:America/New_York
BEGIN:DAYLIGHT
TZOFFSETFROM:-0500
TZOFFSETTO:-0400
TZNAME:EDT
DTSTART:20250309T070000
END:DAYLIGHT
BEGIN:STANDARD
TZOFFSETFROM:-0400
TZOFFSETTO:-0500
TZNAME:EST
DTSTART:20251102T060000
END:STANDARD
BEGIN:DAYLIGHT
TZOFFSETFROM:-0500
TZOFFSETTO:-0400
TZNAME:EDT
DTSTART:20260308T070000
END:DAYLIGHT
BEGIN:STANDARD
TZOFFSETFROM:-0400
TZOFFSETTO:-0500
TZNAME:EST
DTSTART:20261101T060000
END:STANDARD
BEGIN:DAYLIGHT
TZOFFSETFROM:-0500
TZOFFSETTO:-0400
TZNAME:EDT
DTSTART:20270314T070000
END:DAYLIGHT
BEGIN:STANDARD
TZOFFSETFROM:-0400
TZOFFSETTO:-0500
TZNAME:EST
DTSTART:20271107T060000
END:STANDARD
END:VTIMEZONE
BEGIN:VEVENT
DTSTART;TZID=America/New_York:20260325T193000
DTEND;TZID=America/New_York:20260325T193000
DTSTAMP:20260425T155905
CREATED:20260108T164440Z
LAST-MODIFIED:20260302T170816Z
UID:10000165-1774467000-1774467000@www.puffinculturalforum.org
SUMMARY:“The Tallest Dwarf” Film Screening (ONLINE)
DESCRIPTION:Past Events            \n            \n                          \n          \n\n          \n            \n              \n                \n              \n                          \n            \n              share            \n          \n\n          \n            \n                              Join us for our online screening of The Tallest Dwarf\, presented through the continued partnership between TIFF\, Puffin Cultural Forum\, PBS\, and Indie Lens Pop-Up\, a neighborhood series that brings people together for film screenings and community-driven conversations. \nFilm screening is ONLINE AND FREE\, but registration is required. \n— \nThe Tallest Dwarf \nDirected by Julie Forrest Wyman \nThe Tallest Dwarf follows filmmaker Julie Forrest Wyman as she searches for her place in the Little People community and unpacks rumors of dwarfism in her own family. Through intimate stories\, creative collaborations\, and archival history\, the film delves into identity and medicine\, asking whether society should change people or the structures that limit them. \nREGISTER HERE: https://www.eventbrite.com/e/2026-teaneck-international-film-festival-indie-lens-pop-up-series-tickets-1979348584900?aff=oddtdtcreator \n                          \n          \n        \n        \n          \n            \n\n\n\n\n\n\n\n\n\n\n\n\n          \n          \n            \n          \n          \n            \n              Date: Saturday\, April 25                               \n            \n            \n              Time: 3:59 PM                            \n                          \n                Location: \n                \n                                                            \n                        ONLINE                      \n                                                                                                                                                                                                              \n              \n                                                            \n              \n	\n		\n			\n				\n	\n	\n\n				\n					Add to calendar				\n				\n	\n\n			\n			\n				\n											\n\n	\n		Google Calendar	\n\n											\n\n	\n		iCalendar	\n\n											\n\n	\n		Outlook 365	\n\n											\n\n	\n		Outlook Live	\n\n									\n			\n		\n	\n\n            \n          \n        \n      \n    \n  \n\n\n\n\n	\n\n		\n			\n				\n					\n\n													\n								Indie Lens Pop-Up 2025-26 | Sizzle Reel\n							\n						\n						\n\n							\n															\n									\n										\n										Play\n									\n								\n							\n						\n\n					\n				\n			\n\n		\n		\n			\n				\n					\n						videoTextBlockModalblock_929390ef73dafa43be6fa9bede76196eTitle\n						\n							×\n						\n					\n					\n						\n							\n								\n								Your browser does not support the video tag.\n							\n							\n						\n					\n					\n						Close Popup
URL:https://www.puffinculturalforum.org/event/the-tallest-dwarf-film-screening-online/
LOCATION:ONLINE\, ONLINE
CATEGORIES:Film
ATTACH;FMTTYPE=image/jpeg:https://www.puffinculturalforum.org/wp-content/uploads/2026/01/IG-Shareable_CTA_The-Tallest-Dwarf.jpg
END:VEVENT
BEGIN:VEVENT
DTSTART;TZID=America/New_York:20260204T193000
DTEND;TZID=America/New_York:20260204T193000
DTSTAMP:20260425T155905
CREATED:20260108T160714Z
LAST-MODIFIED:20260202T181819Z
UID:10000163-1770233400-1770233400@www.puffinculturalforum.org
SUMMARY:“The Librarians” Film Screening (ONLINE)
DESCRIPTION:Past Events            \n            \n                          \n          \n\n          \n            \n              \n                \n              \n                          \n            \n              share            \n          \n\n          \n            \n                              Join us for our online screening of The Librarians\, presented through the continued partnership between TIFF\, Puffin Cultural Forum\, PBS\, and Indie Lens Pop-Up\, a neighborhood series that brings people together for film screenings and community-driven conversations. \nFilm screening is ONLINE AND FREE\, but registration is required. \n—- \nThe Librarians \nDirected by Kim A. Snyder \nWhen Texas lawmakers seek to review a list of books\, librarians find themselves on the frontlines of a national battle. Across the U.S.\, librarians face the impact of uniting against library collection standards that include restrictions on race-related and LGBTQIA+ content. Drawing on historical context\, The Librarians explores the broader implications for education and public life. \nREGISTER HERE: https://www.eventbrite.com/e/2026-teaneck-international-film-festival-indie-lens-pop-up-series-tickets-1979348584900?aff=oddtdtcreator  \n                          \n          \n        \n        \n          \n            \n\n\n\n\n\n\n\n\n\n\n\n\n          \n          \n            \n          \n          \n            \n              Date: Saturday\, April 25                               \n            \n            \n              Time: 3:59 PM                            \n                          \n                Location: \n                \n                                                            \n                        ONLINE                      \n                                                                                                                                                                                                              \n              \n                                                            \n              \n	\n		\n			\n				\n	\n	\n\n				\n					Add to calendar				\n				\n	\n\n			\n			\n				\n											\n\n	\n		Google Calendar	\n\n											\n\n	\n		iCalendar	\n\n											\n\n	\n		Outlook 365	\n\n											\n\n	\n		Outlook Live	\n\n									\n			\n		\n	\n\n            \n          \n        \n      \n    \n  \n\n\n\n\n	\n\n		\n			\n				\n					\n\n													\n								Indie Lens Pop-Up 2025-26 | Sizzle Reel\n							\n						\n						\n\n							\n															\n									\n										\n										Play\n									\n								\n							\n						\n\n					\n				\n			\n\n		\n		\n			\n				\n					\n						videoTextBlockModalblock_929390ef73dafa43be6fa9bede76196eTitle\n						\n							×\n						\n					\n					\n						\n							\n								\n								Your browser does not support the video tag.\n							\n							\n						\n					\n					\n						Close Popup
URL:https://www.puffinculturalforum.org/event/the-librarians-film-screening-online/
LOCATION:ONLINE\, ONLINE
CATEGORIES:Film
ATTACH;FMTTYPE=image/jpeg:https://www.puffinculturalforum.org/wp-content/uploads/2026/01/IG-Shareable_CTA_The-Librarians.jpg
END:VEVENT
END:VCALENDAR