BEGIN:VCALENDAR
VERSION:2.0
PRODID:-//The Puffin Cultural Forum - ECPv6.15.20//NONSGML v1.0//EN
CALSCALE:GREGORIAN
METHOD:PUBLISH
X-ORIGINAL-URL:https://www.puffinculturalforum.org
X-WR-CALDESC:Events for The Puffin Cultural Forum
REFRESH-INTERVAL;VALUE=DURATION:PT1H
X-Robots-Tag:noindex
X-PUBLISHED-TTL:PT1H
BEGIN:VTIMEZONE
TZID:America/New_York
BEGIN:DAYLIGHT
TZOFFSETFROM:-0500
TZOFFSETTO:-0400
TZNAME:EDT
DTSTART:20250309T070000
END:DAYLIGHT
BEGIN:STANDARD
TZOFFSETFROM:-0400
TZOFFSETTO:-0500
TZNAME:EST
DTSTART:20251102T060000
END:STANDARD
BEGIN:DAYLIGHT
TZOFFSETFROM:-0500
TZOFFSETTO:-0400
TZNAME:EDT
DTSTART:20260308T070000
END:DAYLIGHT
BEGIN:STANDARD
TZOFFSETFROM:-0400
TZOFFSETTO:-0500
TZNAME:EST
DTSTART:20261101T060000
END:STANDARD
BEGIN:DAYLIGHT
TZOFFSETFROM:-0500
TZOFFSETTO:-0400
TZNAME:EDT
DTSTART:20270314T070000
END:DAYLIGHT
BEGIN:STANDARD
TZOFFSETFROM:-0400
TZOFFSETTO:-0500
TZNAME:EST
DTSTART:20271107T060000
END:STANDARD
END:VTIMEZONE
BEGIN:VEVENT
DTSTART;TZID=America/New_York:20260424T180000
DTEND;TZID=America/New_York:20260424T180000
DTSTAMP:20260424T081201
CREATED:20260127T190235Z
LAST-MODIFIED:20260326T191844Z
UID:10000171-1777053600-1777053600@www.puffinculturalforum.org
SUMMARY:SPEAK April: Writer’s Workshop & Open Mic
DESCRIPTION:Events for April 2026            \n            \n                              \n                \n                  Music Concert                \n                          \n          \n\n          \n            \n              \n                \n              \n                              Buy Tickets\n                          \n            \n              share            \n          \n\n          \n            \n                              S.P.E.A.K. is back for April\, and will be hosting another writer’s workshop followed by an open mic night! \n\nAt 6:00PM: Writer’s Workshop\nWORKSHOP IS ONLY OPEN TO THE FIRST 15 SIGNUPS!\nWriters are invited to share a piece they are working on\, and provide feedback to each other as they edit their chosen piece. \n\nAt 7:00PM: Open Mic\nPerform your writing\, poetry\, prose\, or rap at the Open Mic! Performances will be recorded\, but you may opt out of being recorded when you sign up.\n\nInterested writers and poets can sign up for the workshop and/or the open mic by emailing their name\, contact info\, and whether they’d like to opt out of being recorded to: herhymeswithme@gmail.com \nPLEASE NOTE: Writers who email Toney to sign up for the workshop and/or the open mic must still make a reservation! \n– \nSuggested Donation: $5\nBUY TICKETS below\, OR call: 201-836-3499 (Must call before Thurs. 4/23 at 5PM) \nIf you cannot pay the suggested donation\, please call 201-836-3499 or email aortega@puffinfoundation.org to ask for free reservation(s). Thank you! \n– \nABOUT S.P.E.A.K.: \nPuffin’s monthly poetry series\, S.P.E.A.K. (Sharing Poetic Expressions\, Art\, & Knowledge)\, is hosted by MC and poet Toney Jackson. He guides novices\, veteran spitters\, and professional wordsmiths alike in an evening of intimacy\, creativity\, and positivity like no other. This event is open to aspiring poets as well as listeners! \n                          \n          \n        \n        \n          \n            \n\n\n\n\n\n\n\n\n\n\n          \n          \n            \n          \n          \n            \n              Date: Sunday\, May 24                               \n            \n            \n              Time: 4:00 PM                            \n                          \n                Location: \n                \n                                                            \n                        20 Puffin Way                      \n                                                                                \n                        Teaneck                      \n                                                                                \n                        New Jersey                      \n                                                                                \n                        07666                      \n                                                                                            \n              \n                                      \n                Cost: $10.00 \n              \n                                                \n              \n	\n		\n			\n				\n	\n	\n\n				\n					Add to calendar				\n				\n	\n\n			\n			\n				\n											\n\n	\n		Google Calendar	\n\n											\n\n	\n		iCalendar	\n\n											\n\n	\n		Outlook 365	\n\n											\n\n	\n		Outlook Live	\n\n											\n\n	\n		Export .ics file	\n\n											\n\n	\n		Export Outlook .ics file	\n\n									\n			\n		\n	\n\n            \n          \n        \n      \n    \n  \n\n\n\n\n\n\n\n\n\n\n	\n		\n			\n				\n					\n						\n							\n								\n																			Prepare For Your Visit\nGot your reservations? Get ready to attend this event by getting directions\, reviewing our venue rules\, and reading about our accessibility features. \nVisit us
URL:https://www.puffinculturalforum.org/event/speak-april-writers-workshop-open-mic-2/
LOCATION:20 Puffin Way\, Teaneck\, NJ 07666\, 20 Puffin Way\, Teaneck\, New Jersey\, 07666
CATEGORIES:Literary Arts,Workshop
ATTACH;FMTTYPE=image/png:https://www.puffinculturalforum.org/wp-content/uploads/2026/01/SPEAK-APRIL-2026-IG-Flyer.png
END:VEVENT
BEGIN:VEVENT
DTSTART;TZID=America/New_York:20260425T190000
DTEND;TZID=America/New_York:20260425T190000
DTSTAMP:20260424T081201
CREATED:20260327T203915Z
LAST-MODIFIED:20260420T140420Z
UID:10000182-1777143600-1777143600@www.puffinculturalforum.org
SUMMARY:2026 ReelAbilities Film Festival: HORSEGIRLS
DESCRIPTION:Events for April 2026            \n            \n                              \n                \n                  Music Concert                \n                          \n          \n\n          \n            \n              \n                \n              \n                          \n            \n              share            \n          \n\n          \n            \n                              Puffin Cultural Forum and Teaneck International Film Festival are proud to partner with the ReelAbilities Film Festival for its 18th Annual celebration\, with an in-person film screening of HORSEGIRLS on Saturday\, 4/25 at 7PM! \nHORSEGIRLS \nDirector: Lauren Meyering | Runtime: 101 min \nCountry: USA | Language: English | Year: 2025 \nSYNOPSIS \nMargarita\, a 22-year-old autistic woman balances early adulthood\, her first job\, and the uncertainty surrounding her mother’s health. When she discovers the world of competitive hobby horse dancing\, what starts as curiosity becomes a lifeline of movement\, craft\, and community. As she trains and finds her footing among people who provide encouragement and care\, Margarita gains greater confidence and autonomy\, creating a future shaped less by expectation and more by her own rhythm\, choices\, and joy. \nALL FILMS ARE PRESENTED WITH OPEN CAPTIONS AND ALL VENUES ARE ACCESSIBLE TO MOBILITY DEVICES. \nBUY TICKETS HERE! \n– \nThe 18th Annual ReelAbilities Film Festival is the largest festival in the world dedicated to showcasing groundbreaking films by and about people with disabilities. The week-long festival\, taking place April 23-30\, 2026\, is renowned for its wide-ranging international film selection and riveting conversations\, presented annually across NY\, NJ\, and online. \n                          \n          \n        \n        \n          \n            \n\n\n\n\n\n\n\n\n\n\n\n\n          \n          \n            \n          \n          \n            \n              Date: Sunday\, May 24                               \n            \n            \n              Time: 4:00 PM                            \n                          \n                Location: \n                \n                                                            \n                        20 Puffin Way                      \n                                                                                \n                        Teaneck                      \n                                                                                \n                        New Jersey                      \n                                                                                \n                        07666                      \n                                                                                            \n              \n                                      \n                Cost: $10.00 \n              \n                                                \n              \n	\n		\n			\n				\n	\n	\n\n				\n					Add to calendar				\n				\n	\n\n			\n			\n				\n											\n\n	\n		Google Calendar	\n\n											\n\n	\n		iCalendar	\n\n											\n\n	\n		Outlook 365	\n\n											\n\n	\n		Outlook Live	\n\n											\n\n	\n		Export .ics file	\n\n											\n\n	\n		Export Outlook .ics file	\n\n									\n			\n		\n	\n\n            \n          \n        \n      \n    \n  \n\n\n\n\n	\n\n		\n			\n				\n					\n\n													\n								Horsegirls – Official Trailer – Premieres at ReelAbilities Film Festival on April 26\n							\n						\n						\n\n							\n															\n									\n										\n										Play\n									\n								\n							\n						\n\n					\n				\n			\n\n		\n		\n			\n				\n					\n						videoTextBlockModalblock_2f5a98eec1368f00819c19d5d01031dcTitle\n						\n							×\n						\n					\n					\n						\n							\n								\n								Your browser does not support the video tag.\n							\n							\n						\n					\n					\n						Close Popup\n					\n				\n			\n		\n\n	\n\n\n\n\n	\n		\n			\n				\n					\n						\n							\n								\n																			Prepare For Your Visit\nGot your reservations? Get ready to attend this event by getting directions\, reviewing our venue rules\, and reading about our accessibility features. \nVisit us
URL:https://www.puffinculturalforum.org/event/2026-reelabilities-film-festival-horsegirls/
LOCATION:Office\, 20 Puffin Way\, Teaneck\, 07666
CATEGORIES:Film
ATTACH;FMTTYPE=image/jpeg:https://www.puffinculturalforum.org/wp-content/uploads/2026/03/Horsegirls-IG-flyer.jpg
END:VEVENT
BEGIN:VEVENT
DTSTART;TZID=America/New_York:20260426T160000
DTEND;TZID=America/New_York:20260426T160000
DTSTAMP:20260424T081201
CREATED:20260311T172534Z
LAST-MODIFIED:20260413T154310Z
UID:10000181-1777219200-1777219200@www.puffinculturalforum.org
SUMMARY:Samuel Gray & Benjamin Nylander present “Comedy & Reverie”
DESCRIPTION:Events for April 2026            \n            \n                              \n                \n                  Music Concert                \n                          \n          \n\n          \n            \n              \n                \n              \n                              Buy Tickets\n                          \n            \n              share            \n          \n\n          \n            \n                              Samuel Gray and Benjamin Nylander’s “Comedy & Reverie” explores wit and wonder through a vibrant program of selections for violin\, viola\, and piano. The comic irony of Korngold’s Much Ado About Nothing\, Schumann’s erratic Märchenbilder\, and Lalo’s wild Arlequin conjure up images of an ensemble of stock characters\, fairy tales\, and fantasies. \nBehind these masks of performance lie the dreamy\, introspective musings of Debussy\, Chausson\, and Reinecke\, a sharp contrast to their extroverted counterparts\, and a window into the source of creativity. As a whole\, these works weave together a vivid tapestry of humor\, performativity\, and poetry. \nSamuel Gray is a New York-based violinist\, violist\, and music contractor. In his performance career\, Sam has shared the stage with many great artists of our time\, including Cyndi Lauper\, Mariah Carey\, Darren Criss\, Titus Burgess\, Alex Newell\, Billy Eichner\, and Kate Baldwin. A fervent believer that music is healing to the soul\, he produces intimate chamber music performances around New York City. Sam performs on a 2014 Samuel Zygmuntowicz violin generously on loan from Jay and Michiko Jones. \nBenjamin T. Nylander is a composer and pianist living in Brooklyn. His work includes collaborations on various film and theatre projects\, a contemporary classical album performed with saxophonist Joshua Heaney\, and an international debut in Harbin\, China for the 2025 World Saxophone Congress. Most notably\, Nylander performs with violinist Samuel Gray\, with whom he founded the Hamilton-Hudson Chamber Music Academy in 2025. Nylander can regularly be found working as repetiteur for various opera studios in New York City. He teaches a large private studio of his own piano\, composition\, and theory students throughout the greater metropolitan area and beyond. \n– \nSuggested Donation: $10\nBUY TICKETS below\, OR call: 201-836-3499 (Must call before Thurs. 4/23 at 5PM) \nIf you cannot pay the suggested donation\, please call 201-836-3499 or email aortega@puffinfoundation.org to ask for free reservation(s). Thank you! \n                          \n          \n        \n        \n          \n            \n\n\n\n\n\n\n\n\n\n\n          \n          \n            \n          \n          \n            \n              Date: Sunday\, May 24                               \n            \n            \n              Time: 4:00 PM                            \n                          \n                Location: \n                \n                                                            \n                        20 Puffin Way                      \n                                                                                \n                        Teaneck                      \n                                                                                \n                        New Jersey                      \n                                                                                \n                        07666                      \n                                                                                            \n              \n                                      \n                Cost: $10.00 \n              \n                                                \n              \n	\n		\n			\n				\n	\n	\n\n				\n					Add to calendar				\n				\n	\n\n			\n			\n				\n											\n\n	\n		Google Calendar	\n\n											\n\n	\n		iCalendar	\n\n											\n\n	\n		Outlook 365	\n\n											\n\n	\n		Outlook Live	\n\n											\n\n	\n		Export .ics file	\n\n											\n\n	\n		Export Outlook .ics file	\n\n									\n			\n		\n	\n\n            \n          \n        \n      \n    \n  \n\n\n\n\n\n\n\n\n\n\n	\n\n		\n			\n				\n					\n\n													\n								Kodaly: Adagio for Viola and Piano\n							\n						\n						\n\n							\n															\n									\n										\n										Play\n									\n								\n							\n						\n\n					\n				\n			\n\n		\n		\n			\n				\n					\n						videoTextBlockModalblock_2aeb6e49aeec853ae37a687b7b529227Title\n						\n							×\n						\n					\n					\n						\n							\n								\n								Your browser does not support the video tag.\n							\n							\n						\n					\n					\n						Close Popup\n					\n				\n			\n		\n\n	\n\n\n\n\n	\n		\n			\n				\n					\n						\n							\n								\n																			Prepare For Your Visit\nGot your reservations? Get ready to attend this event by getting directions\, reviewing our venue rules\, and reading about our accessibility features. \nVisit us
URL:https://www.puffinculturalforum.org/event/samuel-gray-benjamin-nylander-present-comedy-reverie/
LOCATION:20 Puffin Way\, Teaneck\, NJ 07666\, 20 Puffin Way\, Teaneck\, New Jersey\, 07666
CATEGORIES:Music Concert
ATTACH;FMTTYPE=image/png:https://www.puffinculturalforum.org/wp-content/uploads/2026/03/Comedy-Reverie-IG-Flyer-ANDREA-EDIT.png
END:VEVENT
END:VCALENDAR