BEGIN:VCALENDAR
VERSION:2.0
PRODID:-//The Puffin Cultural Forum - ECPv6.15.20//NONSGML v1.0//EN
CALSCALE:GREGORIAN
METHOD:PUBLISH
X-ORIGINAL-URL:https://www.puffinculturalforum.org
X-WR-CALDESC:Events for The Puffin Cultural Forum
REFRESH-INTERVAL;VALUE=DURATION:PT1H
X-Robots-Tag:noindex
X-PUBLISHED-TTL:PT1H
BEGIN:VTIMEZONE
TZID:America/New_York
BEGIN:DAYLIGHT
TZOFFSETFROM:-0500
TZOFFSETTO:-0400
TZNAME:EDT
DTSTART:20250309T070000
END:DAYLIGHT
BEGIN:STANDARD
TZOFFSETFROM:-0400
TZOFFSETTO:-0500
TZNAME:EST
DTSTART:20251102T060000
END:STANDARD
BEGIN:DAYLIGHT
TZOFFSETFROM:-0500
TZOFFSETTO:-0400
TZNAME:EDT
DTSTART:20260308T070000
END:DAYLIGHT
BEGIN:STANDARD
TZOFFSETFROM:-0400
TZOFFSETTO:-0500
TZNAME:EST
DTSTART:20261101T060000
END:STANDARD
BEGIN:DAYLIGHT
TZOFFSETFROM:-0500
TZOFFSETTO:-0400
TZNAME:EDT
DTSTART:20270314T070000
END:DAYLIGHT
BEGIN:STANDARD
TZOFFSETFROM:-0400
TZOFFSETTO:-0500
TZNAME:EST
DTSTART:20271107T060000
END:STANDARD
END:VTIMEZONE
BEGIN:VEVENT
DTSTART;TZID=America/New_York:20260524T160000
DTEND;TZID=America/New_York:20260524T160000
DTSTAMP:20260424T135214
CREATED:20260420T185227Z
LAST-MODIFIED:20260420T185231Z
UID:10000188-1779638400-1779638400@www.puffinculturalforum.org
SUMMARY:Daniel Epstein Trio
DESCRIPTION:Events for May 1 – May 15            \n            \n                              \n                \n                  Exhibition Opening                \n                          \n          \n\n          \n            \n              \n                \n              \n                              RSVP now\n                          \n            \n              share            \n          \n\n          \n            \n                              Pianist Daniel Epstein\, violinist Kae Nakano\, and cellist Benjamin Larsen present a program of diverse trios covering nearly the entire “lifetime” of the piano trio: an early trio by Joseph Haydn\, the difficult and rarely performed 1998 trio by American composer Frederic Rzewski\, and finally the Trio in A minor by Maurice Ravel. \nPianist Daniel Epstein was the first American pianist to perform the “Yellow River Concerto\,” a product of the Chinese Cultural Revolution in 1973. He has established a career which includes performances with major symphony orchestras\, solo recitals\, and chamber music. He is a founding member of the Raphael Trio. \nViolinist Kae Nakano\, as a college student\, won third prize in the Romania International Music Competition. She has since established an active career which includes participation in major international music festivals\, performing with such superluminaries as Marta Argerich\, Seijo Ozawa\, and Vadim Repin. She is an active chamber music performer and member of the Albany Symphony. \nCellist Benjamin Larsen made his solo debut in 1999 at the Merryall Center for the Arts\, where a critic for the Danbury News Times called him “remarkably gifted” with “a charming\, warm tone.” He has performed concerti with the Hartford Symphony\, Farmington Valley Symphony\, and Musica Dolce Ensemble\, and has also performed solo and chamber performances in Asia and Europe. He is the founder and artistic director of Concerts on the Slope in Park Slope\, Brooklyn\, and maintains an active career as soloist and chamber musician. \n                          \n          \n        \n        \n          \n            \n\n\n\n\n\n\n\n\n\n\n          \n          \n            \n          \n          \n            \n              Date: Friday\, May 1                               \n            \n            \n              Time: 7:00 PM                            \n                          \n                Location: \n                \n                                                            \n                        20 Puffin Way                      \n                                                                                \n                        Teaneck                      \n                                                                                \n                        New Jersey                      \n                                                                                \n                        07666                      \n                                                                                            \n              \n                                      \n                Cost: Free \n              \n                                                \n              \n	\n		\n			\n				\n	\n	\n\n				\n					Add to calendar				\n				\n	\n\n			\n			\n				\n											\n\n	\n		Google Calendar	\n\n											\n\n	\n		iCalendar	\n\n											\n\n	\n		Outlook 365	\n\n											\n\n	\n		Outlook Live	\n\n											\n\n	\n		Export .ics file	\n\n											\n\n	\n		Export Outlook .ics file	\n\n									\n			\n		\n	\n\n            \n          \n        \n      \n    \n  \n\n\n\n\n\n\n\n\n\n\n	\n\n		\n			\n				\n					\n\n													\n								Rzewski and Mendelssohn 11/9/25\n							\n						\n						\n\n							\n															\n									\n										\n										Play\n									\n								\n							\n						\n\n					\n				\n			\n\n		\n		\n			\n				\n					\n						videoTextBlockModalblock_7a6798dce849e10d04707ab6edc44c18Title\n						\n							×\n						\n					\n					\n						\n							\n								\n								Your browser does not support the video tag.\n							\n							\n						\n					\n					\n						Close Popup\n					\n				\n			\n		\n\n	\n\n\n\n\n	\n		\n			\n				\n					\n						\n							\n								\n																			Prepare For Your Visit\nGot your reservations? Get ready to attend this event by getting directions\, reviewing our venue rules\, and reading about our accessibility features. \nVisit us
URL:https://www.puffinculturalforum.org/event/daniel-epstein-trio/
LOCATION:20 Puffin Way\, Teaneck\, NJ 07666\, 20 Puffin Way\, Teaneck\, New Jersey\, 07666
CATEGORIES:Music Concert
ATTACH;FMTTYPE=image/png:https://www.puffinculturalforum.org/wp-content/uploads/2026/04/Dan-Epstein-Trio-temp-pic.png
END:VEVENT
BEGIN:VEVENT
DTSTART;TZID=America/New_York:20260605T190000
DTEND;TZID=America/New_York:20260605T190000
DTSTAMP:20260424T135214
CREATED:20260305T213304Z
LAST-MODIFIED:20260305T213308Z
UID:10000180-1780686000-1780686000@www.puffinculturalforum.org
SUMMARY:John Hart Trio ft. Jake Hart
DESCRIPTION:Events for May 1 – May 15            \n            \n                              \n                \n                  Exhibition Opening                \n                          \n          \n\n          \n            \n              \n                \n              \n                              RSVP now\n                          \n            \n              share            \n          \n\n          \n            \n                              Join us for an evening of music with pianist Jake Hart and the John Hart Jazz Trio. \nPianist and composer Jake Hart will be performing an excerpt from his latest solo piano composition\, a continuation of a project titled Collage\, by memory. The piece utilizes creative borrowing from a multitude of different composers and gives the listener the feeling that the music is completely improvised. \nFollowing Jake Hart’s solo piano performance\, jazz guitarist John Hart will perform standards and original music with his trio\, featuring Bill Moring on bass and Andy Watson on drums. The evening’s program will feature selections from his latest album New Mantra\, released last year under SteepleChase Records. The project marks John’s 17th album as leader. \nJake Hart is a pianist and composer signed with Sunnyside Records\, which released his debut album Collage in 2024. The album received praise in Los Angeles Jazz Scene\, where Scott Yanow wrote about how “the two Parts sound spontaneous and bridge the gap between modern classical music and jazz.” In addition\, Jake has also participated in a multitude of international competitions and has performed at notable venues including Birdland Jazz Club\, Mezzrow and the Umbria Jazz Festival. \nA fixture on the New York music scene for 40 years\, John Hart has distinguished himself as a band leader with 17 CDs (including releases on such prestigious labels as Blue Note and Concord) as well as a first-call sideman to the stars\, including a sixteen-year tenure with organist Jack McDuff. Other associations include Lou Donaldson\, James Moody\, Jon Hendricks\, Jimmy Smith\, Brian Blade\, Chris Potter\, Larry Goldings\, Bob Belden\, Rick Margitza\, Javon Jackson and the Maria Schneider Orchestra. A prolific recording artist\, John has appeared on 100-plus CDs as a sideman. \nSuggested Donation: $10\nBUY TICKETS below\, OR call: 201-836-3499 (Must call before Thurs. 6/4 at 5PM) \nIf you cannot pay the suggested donation\, please call 201-836-3499 or email aortega@puffinfoundation.org to ask for free reservation(s). Thank you! \n                          \n          \n        \n        \n          \n            \n\n\n\n\n\n\n\n\n\n\n          \n          \n            \n          \n          \n            \n              Date: Friday\, May 1                               \n            \n            \n              Time: 7:00 PM                            \n                          \n                Location: \n                \n                                                            \n                        20 Puffin Way                      \n                                                                                \n                        Teaneck                      \n                                                                                \n                        New Jersey                      \n                                                                                \n                        07666                      \n                                                                                            \n              \n                                      \n                Cost: Free \n              \n                                                \n              \n	\n		\n			\n				\n	\n	\n\n				\n					Add to calendar				\n				\n	\n\n			\n			\n				\n											\n\n	\n		Google Calendar	\n\n											\n\n	\n		iCalendar	\n\n											\n\n	\n		Outlook 365	\n\n											\n\n	\n		Outlook Live	\n\n											\n\n	\n		Export .ics file	\n\n											\n\n	\n		Export Outlook .ics file	\n\n									\n			\n		\n	\n\n            \n          \n        \n      \n    \n  \n\n\n\n\n\n\n\n\n\n\n	\n\n		\n			\n				\n					\n\n													\n								John Hart Trio – “All the Things You Are”\n							\n						\n						\n\n							\n															\n									\n										\n										Play\n									\n								\n							\n						\n\n					\n				\n			\n\n		\n		\n			\n				\n					\n						videoTextBlockModalblock_e01397491391cf7124256dafb2b78f26Title\n						\n							×\n						\n					\n					\n						\n							\n								\n								Your browser does not support the video tag.\n							\n							\n						\n					\n					\n						Close Popup\n					\n				\n			\n		\n\n	\n\n\n\n\n	\n		\n			\n				\n					\n						\n							\n								\n																			Prepare For Your Visit\nGot your reservations? Get ready to attend this event by getting directions\, reviewing our venue rules\, and reading about our accessibility features. \nVisit us
URL:https://www.puffinculturalforum.org/event/john-hart-trio-ft-jake-hart/
LOCATION:20 Puffin Way\, Teaneck\, NJ 07666\, 20 Puffin Way\, Teaneck\, New Jersey\, 07666
CATEGORIES:Jazz Concert
ATTACH;FMTTYPE=image/png:https://www.puffinculturalforum.org/wp-content/uploads/2026/03/Jake-and-John-Hart.png
END:VEVENT
BEGIN:VEVENT
DTSTART;TZID=America/New_York:20260717T190000
DTEND;TZID=America/New_York:20260717T190000
DTSTAMP:20260424T135214
CREATED:20260413T191510Z
LAST-MODIFIED:20260413T191513Z
UID:10000186-1784314800-1784314800@www.puffinculturalforum.org
SUMMARY:Conversations with Ronnie Burrage
DESCRIPTION:Events for May 1 – May 15            \n            \n                              \n                \n                  Exhibition Opening                \n                          \n          \n\n          \n            \n              \n                \n              \n                              RSVP now\n                          \n            \n              share            \n          \n\n          \n            \n                              Conversations with Ronnie Burrage is an intimate evening of music\, memory\, and spontaneous creation. World-renowned percussionist and multi-instrumentalist Ronnie Burrage — joined by guitarist Yuto Kanazawa — weaves together live\, improvised music across genres with vivid personal stories drawn from his extraordinary life and upcoming memoir. Expect the unexpected: Burrage is a musician who composes in the moment\, sculpting soundscapes from scratch and drawing the audience into the living\, breathing act of creation. \nWith a discography spanning over 170 recordings and a career that has placed him alongside McCoy Tyner\, Sonny Rollins\, and Wayne Shorter\, Ronnie Burrage has spent decades at the forefront of jazz innovation. Recognized as one of the finest jazz musicians on the international scene\, he brings to Puffin something rarer than a performance — a conversation between a master artist\, his instrument\, and everyone in the room. \nSuggested Donation: $10\nBUY TICKETS below\, OR call: 201-836-3499 (Must call before Thurs. 7/16 at 5PM) \nIf you cannot pay the suggested donation\, please call 201-836-3499 or email aortega@puffinfoundation.org to ask for free reservation(s). Thank you! \n                          \n          \n        \n        \n          \n            \n\n\n\n\n\n\n\n\n\n\n          \n          \n            \n          \n          \n            \n              Date: Friday\, May 1                               \n            \n            \n              Time: 7:00 PM                            \n                          \n                Location: \n                \n                                                            \n                        20 Puffin Way                      \n                                                                                \n                        Teaneck                      \n                                                                                \n                        New Jersey                      \n                                                                                \n                        07666                      \n                                                                                            \n              \n                                      \n                Cost: Free \n              \n                                                \n              \n	\n		\n			\n				\n	\n	\n\n				\n					Add to calendar				\n				\n	\n\n			\n			\n				\n											\n\n	\n		Google Calendar	\n\n											\n\n	\n		iCalendar	\n\n											\n\n	\n		Outlook 365	\n\n											\n\n	\n		Outlook Live	\n\n											\n\n	\n		Export .ics file	\n\n											\n\n	\n		Export Outlook .ics file	\n\n									\n			\n		\n	\n\n            \n          \n        \n      \n    \n  \n\n\n\n\n\n\n\n\n\n\n	\n\n		\n			\n				\n					\n\n													\n								Ronnie Burrage – “Chanda”\n							\n						\n						\n\n							\n															\n									\n										\n										Play\n									\n								\n							\n						\n\n					\n				\n			\n\n		\n		\n			\n				\n					\n						videoTextBlockModalblock_eace730d37c1e04ea72b00ebc1e533c2Title\n						\n							×\n						\n					\n					\n						\n							\n								\n								Your browser does not support the video tag.\n							\n							\n						\n					\n					\n						Close Popup\n					\n				\n			\n		\n\n	\n\n\n\n\n	\n		\n			\n				\n					\n						\n							\n								\n																			Prepare For Your Visit\nGot your reservations? Get ready to attend this event by getting directions\, reviewing our venue rules\, and reading about our accessibility features. \nVisit us
URL:https://www.puffinculturalforum.org/event/conversations-with-ronnie-burrage/
LOCATION:20 Puffin Way\, Teaneck\, NJ 07666\, 20 Puffin Way\, Teaneck\, New Jersey\, 07666
CATEGORIES:Jazz Concert
ATTACH;FMTTYPE=image/png:https://www.puffinculturalforum.org/wp-content/uploads/2026/04/Ronnie-Burrage-temp-photo.png
END:VEVENT
END:VCALENDAR