BEGIN:VCALENDAR
VERSION:2.0
PRODID:-//The Puffin Cultural Forum - ECPv6.15.20//NONSGML v1.0//EN
CALSCALE:GREGORIAN
METHOD:PUBLISH
X-WR-CALNAME:The Puffin Cultural Forum
X-ORIGINAL-URL:https://www.puffinculturalforum.org
X-WR-CALDESC:Events for The Puffin Cultural Forum
REFRESH-INTERVAL;VALUE=DURATION:PT1H
X-Robots-Tag:noindex
X-PUBLISHED-TTL:PT1H
BEGIN:VTIMEZONE
TZID:America/New_York
BEGIN:DAYLIGHT
TZOFFSETFROM:-0500
TZOFFSETTO:-0400
TZNAME:EDT
DTSTART:20250309T070000
END:DAYLIGHT
BEGIN:STANDARD
TZOFFSETFROM:-0400
TZOFFSETTO:-0500
TZNAME:EST
DTSTART:20251102T060000
END:STANDARD
BEGIN:DAYLIGHT
TZOFFSETFROM:-0500
TZOFFSETTO:-0400
TZNAME:EDT
DTSTART:20260308T070000
END:DAYLIGHT
BEGIN:STANDARD
TZOFFSETFROM:-0400
TZOFFSETTO:-0500
TZNAME:EST
DTSTART:20261101T060000
END:STANDARD
BEGIN:DAYLIGHT
TZOFFSETFROM:-0500
TZOFFSETTO:-0400
TZNAME:EDT
DTSTART:20270314T070000
END:DAYLIGHT
BEGIN:STANDARD
TZOFFSETFROM:-0400
TZOFFSETTO:-0500
TZNAME:EST
DTSTART:20271107T060000
END:STANDARD
END:VTIMEZONE
BEGIN:VEVENT
DTSTART;TZID=America/New_York:20260425T190000
DTEND;TZID=America/New_York:20260425T190000
DTSTAMP:20260424T101416
CREATED:20260327T203915Z
LAST-MODIFIED:20260420T140420Z
UID:10000182-1777143600-1777143600@www.puffinculturalforum.org
SUMMARY:2026 ReelAbilities Film Festival: HORSEGIRLS
DESCRIPTION:Events for April 24\, 2026            \n            \n                              \n                \n                  Music Concert                \n                          \n          \n\n          \n            \n              \n                \n              \n                          \n            \n              share            \n          \n\n          \n            \n                              Puffin Cultural Forum and Teaneck International Film Festival are proud to partner with the ReelAbilities Film Festival for its 18th Annual celebration\, with an in-person film screening of HORSEGIRLS on Saturday\, 4/25 at 7PM! \nHORSEGIRLS \nDirector: Lauren Meyering | Runtime: 101 min \nCountry: USA | Language: English | Year: 2025 \nSYNOPSIS \nMargarita\, a 22-year-old autistic woman balances early adulthood\, her first job\, and the uncertainty surrounding her mother’s health. When she discovers the world of competitive hobby horse dancing\, what starts as curiosity becomes a lifeline of movement\, craft\, and community. As she trains and finds her footing among people who provide encouragement and care\, Margarita gains greater confidence and autonomy\, creating a future shaped less by expectation and more by her own rhythm\, choices\, and joy. \nALL FILMS ARE PRESENTED WITH OPEN CAPTIONS AND ALL VENUES ARE ACCESSIBLE TO MOBILITY DEVICES. \nBUY TICKETS HERE! \n– \nThe 18th Annual ReelAbilities Film Festival is the largest festival in the world dedicated to showcasing groundbreaking films by and about people with disabilities. The week-long festival\, taking place April 23-30\, 2026\, is renowned for its wide-ranging international film selection and riveting conversations\, presented annually across NY\, NJ\, and online. \n                          \n          \n        \n        \n          \n            \n\n\n\n\n\n\n\n\n\n\n\n\n          \n          \n            \n          \n          \n            \n              Date: Sunday\, May 24                               \n            \n            \n              Time: 4:00 PM                            \n                          \n                Location: \n                \n                                                            \n                        20 Puffin Way                      \n                                                                                \n                        Teaneck                      \n                                                                                \n                        New Jersey                      \n                                                                                \n                        07666                      \n                                                                                            \n              \n                                      \n                Cost: $10.00 \n              \n                                                \n              \n	\n		\n			\n				\n	\n	\n\n				\n					Add to calendar				\n				\n	\n\n			\n			\n				\n											\n\n	\n		Google Calendar	\n\n											\n\n	\n		iCalendar	\n\n											\n\n	\n		Outlook 365	\n\n											\n\n	\n		Outlook Live	\n\n											\n\n	\n		Export .ics file	\n\n											\n\n	\n		Export Outlook .ics file	\n\n									\n			\n		\n	\n\n            \n          \n        \n      \n    \n  \n\n\n\n\n	\n\n		\n			\n				\n					\n\n													\n								Horsegirls – Official Trailer – Premieres at ReelAbilities Film Festival on April 26\n							\n						\n						\n\n							\n															\n									\n										\n										Play\n									\n								\n							\n						\n\n					\n				\n			\n\n		\n		\n			\n				\n					\n						videoTextBlockModalblock_2f5a98eec1368f00819c19d5d01031dcTitle\n						\n							×\n						\n					\n					\n						\n							\n								\n								Your browser does not support the video tag.\n							\n							\n						\n					\n					\n						Close Popup\n					\n				\n			\n		\n\n	\n\n\n\n\n	\n		\n			\n				\n					\n						\n							\n								\n																			Prepare For Your Visit\nGot your reservations? Get ready to attend this event by getting directions\, reviewing our venue rules\, and reading about our accessibility features. \nVisit us
URL:https://www.puffinculturalforum.org/event/2026-reelabilities-film-festival-horsegirls/
LOCATION:Office\, 20 Puffin Way\, Teaneck\, 07666
CATEGORIES:Film
ATTACH;FMTTYPE=image/jpeg:https://www.puffinculturalforum.org/wp-content/uploads/2026/03/Horsegirls-IG-flyer.jpg
END:VEVENT
END:VCALENDAR